Workbook

Sheet Equipo
A1: CONTROL DE VACACIONES - EQUIPO
A2: HORASCLARAS | horasclaras.es
A4: Año de control: | B4: 2026
A7: Celdas editables en azul suave; resultados calculados por formulas.
A8: Empleado/a | B8: Días por año | C8: Días pendientes previos | D8: Días disfrutados | E8: Días disponibles | F8: Tipo de días
D9: =IF(A9="","",SUMIFS(Vacaciones!$D$9:$D$208,Vacaciones!$A$9:$A$208,A9,Vacaciones!$E$9:$E$208,"Aprobada",Vacaciones!$F$9:$F$208,$B$4)) | E9: =IF(OR(A9="",B9=""),"",B9+C9-D9)
D10: =IF(A10="","",SUMIFS(Vacaciones!$D$9:$D$208,Vacaciones!$A$9:$A$208,A10,Vacaciones!$E$9:$E$208,"Aprobada",Vacaciones!$F$9:$F$208,$B$4)) | E10: =IF(OR(A10="",B10=""),"",B10+C10-D10)
D11: =IF(A11="","",SUMIFS(Vacaciones!$D$9:$D$208,Vacaciones!$A$9:$A$208,A11,Vacaciones!$E$9:$E$208,"Aprobada",Vacaciones!$F$9:$F$208,$B$4)) | E11: =IF(OR(A11="",B11=""),"",B11+C11-D11)
D12: =IF(A12="","",SUMIFS(Vacaciones!$D$9:$D$208,Vacaciones!$A$9:$A$208,A12,Vacaciones!$E$9:$E$208,"Aprobada",Vacaciones!$F$9:$F$208,$B$4)) | E12: =IF(OR(A12="",B12=""),"",B12+C12-D12)
D13: =IF(A13="","",SUMIFS(Vacaciones!$D$9:$D$208,Vacaciones!$A$9:$A$208,A13,Vacaciones!$E$9:$E$208,"Aprobada",Vacaciones!$F$9:$F$208,$B$4)) | E13: =IF(OR(A13="",B13=""),"",B13+C13-D13)
D14: =IF(A14="","",SUMIFS(Vacaciones!$D$9:$D$208,Vacaciones!$A$9:$A$208,A14,Vacaciones!$E$9:$E$208,"Aprobada",Vacaciones!$F$9:$F$208,$B$4)) | E14: =IF(OR(A14="",B14=""),"",B14+C14-D14)
D15: =IF(A15="","",SUMIFS(Vacaciones!$D$9:$D$208,Vacaciones!$A$9:$A$208,A15,Vacaciones!$E$9:$E$208,"Aprobada",Vacaciones!$F$9:$F$208,$B$4)) | E15: =IF(OR(A15="",B15=""),"",B15+C15-D15)
D16: =IF(A16="","",SUMIFS(Vacaciones!$D$9:$D$208,Vacaciones!$A$9:$A$208,A16,Vacaciones!$E$9:$E$208,"Aprobada",Vacaciones!$F$9:$F$208,$B$4)) | E16: =IF(OR(A16="",B16=""),"",B16+C16-D16)
D17: =IF(A17="","",SUMIFS(Vacaciones!$D$9:$D$208,Vacaciones!$A$9:$A$208,A17,Vacaciones!$E$9:$E$208,"Aprobada",Vacaciones!$F$9:$F$208,$B$4)) | E17: =IF(OR(A17="",B17=""),"",B17+C17-D17)
D18: =IF(A18="","",SUMIFS(Vacaciones!$D$9:$D$208,Vacaciones!$A$9:$A$208,A18,Vacaciones!$E$9:$E$208,"Aprobada",Vacaciones!$F$9:$F$208,$B$4)) | E18: =IF(OR(A18="",B18=""),"",B18+C18-D18)
D19: =IF(A19="","",SUMIFS(Vacaciones!$D$9:$D$208,Vacaciones!$A$9:$A$208,A19,Vacaciones!$E$9:$E$208,"Aprobada",Vacaciones!$F$9:$F$208,$B$4)) | E19: =IF(OR(A19="",B19=""),"",B19+C19-D19)
D20: =IF(A20="","",SUMIFS(Vacaciones!$D$9:$D$208,Vacaciones!$A$9:$A$208,A20,Vacaciones!$E$9:$E$208,"Aprobada",Vacaciones!$F$9:$F$208,$B$4)) | E20: =IF(OR(A20="",B20=""),"",B20+C20-D20)
... D58: =IF(A58="","",SUMIFS(Vacaciones!$D$9:$D$208,Vacaciones!$A$9:$A$208,A58,Vacaciones!$E$9:$E$208,"Aprobada",Vacaciones!$F$9:$F$208,$B$4)) | E58: =IF(OR(A58="",B58=""),"",B58+C58-D58)

Sheet Vacaciones
A1: VACACIONES Y SOLICITUDES
A2: HORASCLARAS | horasclaras.es
A7: Celdas editables en azul suave; resultados calculados por formulas.
A8: Empleado/a | B8: Desde | C8: Hasta | D8: Días a descontar | E8: Estado | F8: Año | G8: Notas
F9: =IF(B9="","",YEAR(B9))
F10: =IF(B10="","",YEAR(B10))
F11: =IF(B11="","",YEAR(B11))
F12: =IF(B12="","",YEAR(B12))
F13: =IF(B13="","",YEAR(B13))
F14: =IF(B14="","",YEAR(B14))
F15: =IF(B15="","",YEAR(B15))
F16: =IF(B16="","",YEAR(B16))
F17: =IF(B17="","",YEAR(B17))
F18: =IF(B18="","",YEAR(B18))
F19: =IF(B19="","",YEAR(B19))
F20: =IF(B20="","",YEAR(B20))
... F208: =IF(B208="","",YEAR(B208))

Sheet Calendario
A1: CALENDARIO DE AUSENCIAS
A2: HORASCLARAS | horasclaras.es
A5: Año: | B5: =Equipo!B4
A6: Mes (1 a 12): | B6: 10
A7: Celdas editables en azul suave; resultados calculados por formulas.
A8: Fecha | B8: Personas de vacaciones | C8: Vista orientativa
A9: =IF(ROW()-8>DAY(DATE($B$5,$B$6+1,0)),"",DATE($B$5,$B$6,ROW()-8)) | B9: =IF(A9="","",COUNTIFS(Vacaciones!$B$9:$B$208,"<="&A9,Vacaciones!$C$9:$C$208,">="&A9,Vacaciones!$E$9:$E$208,"Aprobada")) | C9: Solo ausencias aprobadas
A10: =IF(ROW()-8>DAY(DATE($B$5,$B$6+1,0)),"",DATE($B$5,$B$6,ROW()-8)) | B10: =IF(A10="","",COUNTIFS(Vacaciones!$B$9:$B$208,"<="&A10,Vacaciones!$C$9:$C$208,">="&A10,Vacaciones!$E$9:$E$208,"Aprobada")) | C10: Solo ausencias aprobadas
A11: =IF(ROW()-8>DAY(DATE($B$5,$B$6+1,0)),"",DATE($B$5,$B$6,ROW()-8)) | B11: =IF(A11="","",COUNTIFS(Vacaciones!$B$9:$B$208,"<="&A11,Vacaciones!$C$9:$C$208,">="&A11,Vacaciones!$E$9:$E$208,"Aprobada")) | C11: Solo ausencias aprobadas
A12: =IF(ROW()-8>DAY(DATE($B$5,$B$6+1,0)),"",DATE($B$5,$B$6,ROW()-8)) | B12: =IF(A12="","",COUNTIFS(Vacaciones!$B$9:$B$208,"<="&A12,Vacaciones!$C$9:$C$208,">="&A12,Vacaciones!$E$9:$E$208,"Aprobada")) | C12: Solo ausencias aprobadas
A13: =IF(ROW()-8>DAY(DATE($B$5,$B$6+1,0)),"",DATE($B$5,$B$6,ROW()-8)) | B13: =IF(A13="","",COUNTIFS(Vacaciones!$B$9:$B$208,"<="&A13,Vacaciones!$C$9:$C$208,">="&A13,Vacaciones!$E$9:$E$208,"Aprobada")) | C13: Solo ausencias aprobadas
A14: =IF(ROW()-8>DAY(DATE($B$5,$B$6+1,0)),"",DATE($B$5,$B$6,ROW()-8)) | B14: =IF(A14="","",COUNTIFS(Vacaciones!$B$9:$B$208,"<="&A14,Vacaciones!$C$9:$C$208,">="&A14,Vacaciones!$E$9:$E$208,"Aprobada")) | C14: Solo ausencias aprobadas
A15: =IF(ROW()-8>DAY(DATE($B$5,$B$6+1,0)),"",DATE($B$5,$B$6,ROW()-8)) | B15: =IF(A15="","",COUNTIFS(Vacaciones!$B$9:$B$208,"<="&A15,Vacaciones!$C$9:$C$208,">="&A15,Vacaciones!$E$9:$E$208,"Aprobada")) | C15: Solo ausencias aprobadas
A16: =IF(ROW()-8>DAY(DATE($B$5,$B$6+1,0)),"",DATE($B$5,$B$6,ROW()-8)) | B16: =IF(A16="","",COUNTIFS(Vacaciones!$B$9:$B$208,"<="&A16,Vacaciones!$C$9:$C$208,">="&A16,Vacaciones!$E$9:$E$208,"Aprobada")) | C16: Solo ausencias aprobadas
A17: =IF(ROW()-8>DAY(DATE($B$5,$B$6+1,0)),"",DATE($B$5,$B$6,ROW()-8)) | B17: =IF(A17="","",COUNTIFS(Vacaciones!$B$9:$B$208,"<="&A17,Vacaciones!$C$9:$C$208,">="&A17,Vacaciones!$E$9:$E$208,"Aprobada")) | C17: Solo ausencias aprobadas
A18: =IF(ROW()-8>DAY(DATE($B$5,$B$6+1,0)),"",DATE($B$5,$B$6,ROW()-8)) | B18: =IF(A18="","",COUNTIFS(Vacaciones!$B$9:$B$208,"<="&A18,Vacaciones!$C$9:$C$208,">="&A18,Vacaciones!$E$9:$E$208,"Aprobada")) | C18: Solo ausencias aprobadas
A19: =IF(ROW()-8>DAY(DATE($B$5,$B$6+1,0)),"",DATE($B$5,$B$6,ROW()-8)) | B19: =IF(A19="","",COUNTIFS(Vacaciones!$B$9:$B$208,"<="&A19,Vacaciones!$C$9:$C$208,">="&A19,Vacaciones!$E$9:$E$208,"Aprobada")) | C19: Solo ausencias aprobadas
A20: =IF(ROW()-8>DAY(DATE($B$5,$B$6+1,0)),"",DATE($B$5,$B$6,ROW()-8)) | B20: =IF(A20="","",COUNTIFS(Vacaciones!$B$9:$B$208,"<="&A20,Vacaciones!$C$9:$C$208,">="&A20,Vacaciones!$E$9:$E$208,"Aprobada")) | C20: Solo ausencias aprobadas
... A39: =IF(ROW()-8>DAY(DATE($B$5,$B$6+1,0)),"",DATE($B$5,$B$6,ROW()-8)) | B39: =IF(A39="","",COUNTIFS(Vacaciones!$B$9:$B$208,"<="&A39,Vacaciones!$C$9:$C$208,">="&A39,Vacaciones!$E$9:$E$208,"Aprobada")) | C39: Solo ausencias aprobadas
