Workbook

Sheet Resumen
A5: El calculo no determina si una jornada es legalmente extraordinaria.
A1: RESUMEN - HORAS EXTRA
A2: HORASCLARAS | horasclaras.es
A7: Celdas editables en azul suave; resultados calculados por formulas.
A8: Empleado/a | B8: Registradas (h) | C8: Pendientes (h) | D8: Pagadas (h) | E8: Descanso (h) | F8: Sin estado (h)
B9: =IF(A9="","",SUMIF(Registro!$B$9:$B$208,A9,Registro!$F$9:$F$208)) | C9: =IF(A9="","",SUMIFS(Registro!$F$9:$F$208,Registro!$B$9:$B$208,A9,Registro!$G$9:$G$208,"Pendiente")) | D9: =IF(A9="","",SUMIFS(Registro!$F$9:$F$208,Registro!$B$9:$B$208,A9,Registro!$G$9:$G$208,"Pagada")) | E9: =IF(A9="","",SUMIFS(Registro!$F$9:$F$208,Registro!$B$9:$B$208,A9,Registro!$G$9:$G$208,"Descanso")) | F9: =IF(A9="","",B9-C9-D9-E9)
B10: =IF(A10="","",SUMIF(Registro!$B$9:$B$208,A10,Registro!$F$9:$F$208)) | C10: =IF(A10="","",SUMIFS(Registro!$F$9:$F$208,Registro!$B$9:$B$208,A10,Registro!$G$9:$G$208,"Pendiente")) | D10: =IF(A10="","",SUMIFS(Registro!$F$9:$F$208,Registro!$B$9:$B$208,A10,Registro!$G$9:$G$208,"Pagada")) | E10: =IF(A10="","",SUMIFS(Registro!$F$9:$F$208,Registro!$B$9:$B$208,A10,Registro!$G$9:$G$208,"Descanso")) | F10: =IF(A10="","",B10-C10-D10-E10)
B11: =IF(A11="","",SUMIF(Registro!$B$9:$B$208,A11,Registro!$F$9:$F$208)) | C11: =IF(A11="","",SUMIFS(Registro!$F$9:$F$208,Registro!$B$9:$B$208,A11,Registro!$G$9:$G$208,"Pendiente")) | D11: =IF(A11="","",SUMIFS(Registro!$F$9:$F$208,Registro!$B$9:$B$208,A11,Registro!$G$9:$G$208,"Pagada")) | E11: =IF(A11="","",SUMIFS(Registro!$F$9:$F$208,Registro!$B$9:$B$208,A11,Registro!$G$9:$G$208,"Descanso")) | F11: =IF(A11="","",B11-C11-D11-E11)
B12: =IF(A12="","",SUMIF(Registro!$B$9:$B$208,A12,Registro!$F$9:$F$208)) | C12: =IF(A12="","",SUMIFS(Registro!$F$9:$F$208,Registro!$B$9:$B$208,A12,Registro!$G$9:$G$208,"Pendiente")) | D12: =IF(A12="","",SUMIFS(Registro!$F$9:$F$208,Registro!$B$9:$B$208,A12,Registro!$G$9:$G$208,"Pagada")) | E12: =IF(A12="","",SUMIFS(Registro!$F$9:$F$208,Registro!$B$9:$B$208,A12,Registro!$G$9:$G$208,"Descanso")) | F12: =IF(A12="","",B12-C12-D12-E12)
B13: =IF(A13="","",SUMIF(Registro!$B$9:$B$208,A13,Registro!$F$9:$F$208)) | C13: =IF(A13="","",SUMIFS(Registro!$F$9:$F$208,Registro!$B$9:$B$208,A13,Registro!$G$9:$G$208,"Pendiente")) | D13: =IF(A13="","",SUMIFS(Registro!$F$9:$F$208,Registro!$B$9:$B$208,A13,Registro!$G$9:$G$208,"Pagada")) | E13: =IF(A13="","",SUMIFS(Registro!$F$9:$F$208,Registro!$B$9:$B$208,A13,Registro!$G$9:$G$208,"Descanso")) | F13: =IF(A13="","",B13-C13-D13-E13)
B14: =IF(A14="","",SUMIF(Registro!$B$9:$B$208,A14,Registro!$F$9:$F$208)) | C14: =IF(A14="","",SUMIFS(Registro!$F$9:$F$208,Registro!$B$9:$B$208,A14,Registro!$G$9:$G$208,"Pendiente")) | D14: =IF(A14="","",SUMIFS(Registro!$F$9:$F$208,Registro!$B$9:$B$208,A14,Registro!$G$9:$G$208,"Pagada")) | E14: =IF(A14="","",SUMIFS(Registro!$F$9:$F$208,Registro!$B$9:$B$208,A14,Registro!$G$9:$G$208,"Descanso")) | F14: =IF(A14="","",B14-C14-D14-E14)
B15: =IF(A15="","",SUMIF(Registro!$B$9:$B$208,A15,Registro!$F$9:$F$208)) | C15: =IF(A15="","",SUMIFS(Registro!$F$9:$F$208,Registro!$B$9:$B$208,A15,Registro!$G$9:$G$208,"Pendiente")) | D15: =IF(A15="","",SUMIFS(Registro!$F$9:$F$208,Registro!$B$9:$B$208,A15,Registro!$G$9:$G$208,"Pagada")) | E15: =IF(A15="","",SUMIFS(Registro!$F$9:$F$208,Registro!$B$9:$B$208,A15,Registro!$G$9:$G$208,"Descanso")) | F15: =IF(A15="","",B15-C15-D15-E15)
B16: =IF(A16="","",SUMIF(Registro!$B$9:$B$208,A16,Registro!$F$9:$F$208)) | C16: =IF(A16="","",SUMIFS(Registro!$F$9:$F$208,Registro!$B$9:$B$208,A16,Registro!$G$9:$G$208,"Pendiente")) | D16: =IF(A16="","",SUMIFS(Registro!$F$9:$F$208,Registro!$B$9:$B$208,A16,Registro!$G$9:$G$208,"Pagada")) | E16: =IF(A16="","",SUMIFS(Registro!$F$9:$F$208,Registro!$B$9:$B$208,A16,Registro!$G$9:$G$208,"Descanso")) | F16: =IF(A16="","",B16-C16-D16-E16)
B17: =IF(A17="","",SUMIF(Registro!$B$9:$B$208,A17,Registro!$F$9:$F$208)) | C17: =IF(A17="","",SUMIFS(Registro!$F$9:$F$208,Registro!$B$9:$B$208,A17,Registro!$G$9:$G$208,"Pendiente")) | D17: =IF(A17="","",SUMIFS(Registro!$F$9:$F$208,Registro!$B$9:$B$208,A17,Registro!$G$9:$G$208,"Pagada")) | E17: =IF(A17="","",SUMIFS(Registro!$F$9:$F$208,Registro!$B$9:$B$208,A17,Registro!$G$9:$G$208,"Descanso")) | F17: =IF(A17="","",B17-C17-D17-E17)
B18: =IF(A18="","",SUMIF(Registro!$B$9:$B$208,A18,Registro!$F$9:$F$208)) | C18: =IF(A18="","",SUMIFS(Registro!$F$9:$F$208,Registro!$B$9:$B$208,A18,Registro!$G$9:$G$208,"Pendiente")) | D18: =IF(A18="","",SUMIFS(Registro!$F$9:$F$208,Registro!$B$9:$B$208,A18,Registro!$G$9:$G$208,"Pagada")) | E18: =IF(A18="","",SUMIFS(Registro!$F$9:$F$208,Registro!$B$9:$B$208,A18,Registro!$G$9:$G$208,"Descanso")) | F18: =IF(A18="","",B18-C18-D18-E18)
B19: =IF(A19="","",SUMIF(Registro!$B$9:$B$208,A19,Registro!$F$9:$F$208)) | C19: =IF(A19="","",SUMIFS(Registro!$F$9:$F$208,Registro!$B$9:$B$208,A19,Registro!$G$9:$G$208,"Pendiente")) | D19: =IF(A19="","",SUMIFS(Registro!$F$9:$F$208,Registro!$B$9:$B$208,A19,Registro!$G$9:$G$208,"Pagada")) | E19: =IF(A19="","",SUMIFS(Registro!$F$9:$F$208,Registro!$B$9:$B$208,A19,Registro!$G$9:$G$208,"Descanso")) | F19: =IF(A19="","",B19-C19-D19-E19)
B20: =IF(A20="","",SUMIF(Registro!$B$9:$B$208,A20,Registro!$F$9:$F$208)) | C20: =IF(A20="","",SUMIFS(Registro!$F$9:$F$208,Registro!$B$9:$B$208,A20,Registro!$G$9:$G$208,"Pendiente")) | D20: =IF(A20="","",SUMIFS(Registro!$F$9:$F$208,Registro!$B$9:$B$208,A20,Registro!$G$9:$G$208,"Pagada")) | E20: =IF(A20="","",SUMIFS(Registro!$F$9:$F$208,Registro!$B$9:$B$208,A20,Registro!$G$9:$G$208,"Descanso")) | F20: =IF(A20="","",B20-C20-D20-E20)
... B58: =IF(A58="","",SUMIF(Registro!$B$9:$B$208,A58,Registro!$F$9:$F$208)) | C58: =IF(A58="","",SUMIFS(Registro!$F$9:$F$208,Registro!$B$9:$B$208,A58,Registro!$G$9:$G$208,"Pendiente")) | D58: =IF(A58="","",SUMIFS(Registro!$F$9:$F$208,Registro!$B$9:$B$208,A58,Registro!$G$9:$G$208,"Pagada")) | E58: =IF(A58="","",SUMIFS(Registro!$F$9:$F$208,Registro!$B$9:$B$208,A58,Registro!$G$9:$G$208,"Descanso")) | F58: =IF(A58="","",B58-C58-D58-E58)

Sheet Registro
A1: REGISTRO DE HORAS EXTRA
A2: HORASCLARAS | horasclaras.es
A7: Celdas editables en azul suave; resultados calculados por formulas.
A8: Fecha | B8: Empleado/a | C8: Inicio extra | D8: Fin extra | E8: Pausa (min) | F8: Horas registradas | G8: Estado | H8: Motivo / observaciones
F9: =IF(OR(A9="",B9="",C9="",D9=""),"",IF(MOD(D9-C9,1)*1440<E9,"",ROUND((MOD(D9-C9,1)*1440-E9)/60,2)))
F10: =IF(OR(A10="",B10="",C10="",D10=""),"",IF(MOD(D10-C10,1)*1440<E10,"",ROUND((MOD(D10-C10,1)*1440-E10)/60,2)))
F11: =IF(OR(A11="",B11="",C11="",D11=""),"",IF(MOD(D11-C11,1)*1440<E11,"",ROUND((MOD(D11-C11,1)*1440-E11)/60,2)))
F12: =IF(OR(A12="",B12="",C12="",D12=""),"",IF(MOD(D12-C12,1)*1440<E12,"",ROUND((MOD(D12-C12,1)*1440-E12)/60,2)))
F13: =IF(OR(A13="",B13="",C13="",D13=""),"",IF(MOD(D13-C13,1)*1440<E13,"",ROUND((MOD(D13-C13,1)*1440-E13)/60,2)))
F14: =IF(OR(A14="",B14="",C14="",D14=""),"",IF(MOD(D14-C14,1)*1440<E14,"",ROUND((MOD(D14-C14,1)*1440-E14)/60,2)))
F15: =IF(OR(A15="",B15="",C15="",D15=""),"",IF(MOD(D15-C15,1)*1440<E15,"",ROUND((MOD(D15-C15,1)*1440-E15)/60,2)))
F16: =IF(OR(A16="",B16="",C16="",D16=""),"",IF(MOD(D16-C16,1)*1440<E16,"",ROUND((MOD(D16-C16,1)*1440-E16)/60,2)))
F17: =IF(OR(A17="",B17="",C17="",D17=""),"",IF(MOD(D17-C17,1)*1440<E17,"",ROUND((MOD(D17-C17,1)*1440-E17)/60,2)))
F18: =IF(OR(A18="",B18="",C18="",D18=""),"",IF(MOD(D18-C18,1)*1440<E18,"",ROUND((MOD(D18-C18,1)*1440-E18)/60,2)))
F19: =IF(OR(A19="",B19="",C19="",D19=""),"",IF(MOD(D19-C19,1)*1440<E19,"",ROUND((MOD(D19-C19,1)*1440-E19)/60,2)))
F20: =IF(OR(A20="",B20="",C20="",D20=""),"",IF(MOD(D20-C20,1)*1440<E20,"",ROUND((MOD(D20-C20,1)*1440-E20)/60,2)))
... F208: =IF(OR(A208="",B208="",C208="",D208=""),"",IF(MOD(D208-C208,1)*1440<E208,"",ROUND((MOD(D208-C208,1)*1440-E208)/60,2)))
